BEGIN:VCALENDAR
VERSION:2.0
PRODID:-//MoreDirt v1.0//EN
BEGIN:VEVENT
DTSTAMP:20150730T130000Z
ORGANIZER;CN=Borderline Events:MAILTO:
STATUS:CONFIRMED
UID:MORESPORTSNETWORK992
DTSTART:20150308T080000+0000
DTEND:20150308T120000+0000
SUMMARY:PMBA Enduro Series Round 1 - Gisburn Forest
DESCRIPTION:PMBA Enduro Series Round 1 - Gisburn Forest - more details: https://www.moredirt.com/event/992
X-ALT-DESC;FMTTYPE=text/html:PMBA Enduro Series Round 1 - Gisburn Forest - more details: https://www.moredirt.com/event/992
LOCATION:
END:VEVENT
END:VCALENDAR