BEGIN:VCALENDAR
VERSION:2.0
PRODID:-//MoreDirt v1.0//EN
BEGIN:VEVENT
DTSTAMP:20150730T130000Z
ORGANIZER;CN=TweedLove:MAILTO:
STATUS:CONFIRMED
UID:MORESPORTSNETWORK989
DTSTART:20150328T080000+0000
DTEND:20150329T120000Z
SUMMARY:Vallelujah Enduro
DESCRIPTION:Vallelujah Enduro - more details: https://www.moredirt.com/event/989
X-ALT-DESC;FMTTYPE=text/html:Vallelujah Enduro - more details: https://www.moredirt.com/event/989
LOCATION:
END:VEVENT
END:VCALENDAR