BEGIN:VCALENDAR
VERSION:2.0
PRODID:-//MoreDirt v1.0//EN
BEGIN:VEVENT
DTSTAMP:20150730T130000Z
ORGANIZER;CN=Offcamber:MAILTO:
STATUS:CONFIRMED
UID:MORESPORTSNETWORK983
DTSTART:20150315T080000+0000
DTEND:20150315T120000+0000
SUMMARY:Offcamber Winter Series - Round 7
DESCRIPTION:Offcamber Winter Series - Round 7 - more details: https://www.moredirt.com/event/983
X-ALT-DESC;FMTTYPE=text/html:Offcamber Winter Series - Round 7 - more details: https://www.moredirt.com/event/983
LOCATION:
END:VEVENT
END:VCALENDAR