BEGIN:VCALENDAR
VERSION:2.0
PRODID:-//MoreDirt v1.0//EN
BEGIN:VEVENT
DTSTAMP:20150730T130000Z
ORGANIZER;CN=Roger Harris:MAILTO:
STATUS:CONFIRMED
UID:MORESPORTSNETWORK97
DTSTART:20110604T080000Z
DTEND:20110604T120000Z
SUMMARY:Rheola Uplift Day
DESCRIPTION:Rheola Uplift Day - more details: https://www.moredirt.com/event/97
X-ALT-DESC;FMTTYPE=text/html:Rheola Uplift Day - more details: https://www.moredirt.com/event/97
LOCATION:
END:VEVENT
END:VCALENDAR