BEGIN:VCALENDAR
VERSION:2.0
PRODID:-//MoreDirt v1.0//EN
BEGIN:VEVENT
DTSTAMP:20150730T130000Z
ORGANIZER;CN=Chris Roberts:MAILTO:
STATUS:CONFIRMED
UID:MORESPORTSNETWORK979
DTSTART:20150822T080000Z
DTEND:20150822T120000Z
SUMMARY:4X Pro Tour Round 5 - Val Di Sole
DESCRIPTION:4X Pro Tour Round 5 - Val Di Sole - more details: https://www.moredirt.com/event/979
X-ALT-DESC;FMTTYPE=text/html:4X Pro Tour Round 5 - Val Di Sole - more details: https://www.moredirt.com/event/979
LOCATION:
END:VEVENT
END:VCALENDAR