BEGIN:VCALENDAR
VERSION:2.0
PRODID:-//MoreDirt v1.0//EN
BEGIN:VEVENT
DTSTAMP:20150730T130000Z
ORGANIZER;CN=Roger Harris:MAILTO:
STATUS:CONFIRMED
UID:MORESPORTSNETWORK96
DTSTART:20110410T080000Z
DTEND:20110410T120000Z
SUMMARY:Gethin Uplift
DESCRIPTION:Gethin Uplift - more details: https://www.moredirt.com/event/96
X-ALT-DESC;FMTTYPE=text/html:Gethin Uplift - more details: https://www.moredirt.com/event/96
LOCATION:
END:VEVENT
END:VCALENDAR