BEGIN:VCALENDAR
VERSION:2.0
PRODID:-//MoreDirt v1.0//EN
BEGIN:VEVENT
DTSTAMP:20150730T130000Z
ORGANIZER;CN=Scottish Downhill Association:MAILTO:
STATUS:CONFIRMED
UID:MORESPORTSNETWORK967
DTSTART:20150523T080000Z
DTEND:20150524T120000Z
SUMMARY:Scottish Downhill Association (SDA) - Round 3
DESCRIPTION:Scottish Downhill Association (SDA) - Round 3 - more details: https://www.moredirt.com/event/967
X-ALT-DESC;FMTTYPE=text/html:Scottish Downhill Association (SDA) - Round 3 - more details: https://www.moredirt.com/event/967
LOCATION:
END:VEVENT
END:VCALENDAR