BEGIN:VCALENDAR
VERSION:2.0
PRODID:-//MoreDirt v1.0//EN
BEGIN:VEVENT
DTSTAMP:20150730T130000Z
ORGANIZER;CN=Roger Harris:MAILTO:
STATUS:CONFIRMED
UID:MORESPORTSNETWORK95
DTSTART:20110305T080000+0000
DTEND:20110305T120000+0000
SUMMARY:Rheola Uplift Day
DESCRIPTION:Rheola Uplift Day - more details: https://www.moredirt.com/event/95
X-ALT-DESC;FMTTYPE=text/html:Rheola Uplift Day - more details: https://www.moredirt.com/event/95
LOCATION:
END:VEVENT
END:VCALENDAR