BEGIN:VCALENDAR
VERSION:2.0
PRODID:-//MoreDirt v1.0//EN
BEGIN:VEVENT
DTSTAMP:20150730T130000Z
ORGANIZER;CN=Si Paton:MAILTO:
STATUS:CONFIRMED
UID:MORESPORTSNETWORK951
DTSTART:20150919T080000Z
DTEND:20150920T120000Z
SUMMARY:British Downhill Series - Round 6 - Antur Stiniog
DESCRIPTION:British Downhill Series - Round 6 - Antur Stiniog - more details: https://www.moredirt.com/event/951
X-ALT-DESC;FMTTYPE=text/html:British Downhill Series - Round 6 - Antur Stiniog - more details: https://www.moredirt.com/event/951
LOCATION:
END:VEVENT
END:VCALENDAR