BEGIN:VCALENDAR
VERSION:2.0
PRODID:-//MoreDirt v1.0//EN
BEGIN:VEVENT
DTSTAMP:20150730T130000Z
ORGANIZER;CN=Chaz Lamley:MAILTO:
STATUS:CONFIRMED
UID:MORESPORTSNETWORK783
DTSTART:20140420T080000Z
DTEND:20140420T120000Z
SUMMARY:Woodland Riders 2013/14 Winter Series - Round 4
DESCRIPTION:Woodland Riders 2013/14 Winter Series - Round 4 - more details: https://www.moredirt.com/event/783
X-ALT-DESC;FMTTYPE=text/html:Woodland Riders 2013/14 Winter Series - Round 4 - more details: https://www.moredirt.com/event/783
LOCATION:
END:VEVENT
END:VCALENDAR