BEGIN:VCALENDAR
VERSION:2.0
PRODID:-//MoreDirt v1.0//EN
BEGIN:VEVENT
DTSTAMP:20150730T130000Z
ORGANIZER;CN=Saracen Bikes:MAILTO:
STATUS:CONFIRMED
UID:MORESPORTSNETWORK7274
DTSTART:20260314T080000+0000
DTEND:20260314T120000+0000
SUMMARY:Saracen Shred Sessions - The GAP
DESCRIPTION:Saracen Shred Sessions - The GAP - more details: https://www.moredirt.com/event/7274
X-ALT-DESC;FMTTYPE=text/html:Saracen Shred Sessions - The GAP - more details: https://www.moredirt.com/event/7274
LOCATION:
END:VEVENT
END:VCALENDAR