BEGIN:VCALENDAR
VERSION:2.0
PRODID:-//MoreDirt v1.0//EN
BEGIN:VEVENT
DTSTAMP:20150730T130000Z
ORGANIZER;CN=Aberdeenshire Trail Association:MAILTO:
STATUS:CONFIRMED
UID:MORESPORTSNETWORK7134
DTSTART:20260502T080000Z
DTEND:20260502T120000Z
SUMMARY:Aberdeenshire Trail Association Pitfichie Dig Day
DESCRIPTION:Aberdeenshire Trail Association Pitfichie Dig Day - more details: https://www.moredirt.com/event/7134
X-ALT-DESC;FMTTYPE=text/html:Aberdeenshire Trail Association Pitfichie Dig Day - more details: https://www.moredirt.com/event/7134
LOCATION:
END:VEVENT
END:VCALENDAR