BEGIN:VCALENDAR
VERSION:2.0
PRODID:-//MoreDirt v1.0//EN
BEGIN:VEVENT
DTSTAMP:20150730T130000Z
ORGANIZER;CN=Aberdeenshire Trail Association:MAILTO:
STATUS:CONFIRMED
UID:MORESPORTSNETWORK7128
DTSTART:20260214T080000+0000
DTEND:20260214T120000+0000
SUMMARY:Aberdeenshire Trail Association Aboyne Dig Day
DESCRIPTION:Aberdeenshire Trail Association Aboyne Dig Day - more details: https://www.moredirt.com/event/7128
X-ALT-DESC;FMTTYPE=text/html:Aberdeenshire Trail Association Aboyne Dig Day - more details: https://www.moredirt.com/event/7128
LOCATION:
END:VEVENT
END:VCALENDAR