BEGIN:VCALENDAR
VERSION:2.0
PRODID:-//MoreDirt v1.0//EN
BEGIN:VEVENT
DTSTAMP:20150730T130000Z
ORGANIZER;CN=Nevis Range:MAILTO:
STATUS:CONFIRMED
UID:MORESPORTSNETWORK7125
DTSTART:20261114T080000+0000
DTEND:20261114T120000+0000
SUMMARY:Trail Blazers Enduro 2026 at Nevis Range
DESCRIPTION:Trail Blazers Enduro 2026 at Nevis Range - more details: https://www.moredirt.com/event/7125
X-ALT-DESC;FMTTYPE=text/html:Trail Blazers Enduro 2026 at Nevis Range - more details: https://www.moredirt.com/event/7125
LOCATION:
END:VEVENT
END:VCALENDAR