BEGIN:VCALENDAR
VERSION:2.0
PRODID:-//MoreDirt v1.0//EN
BEGIN:VEVENT
DTSTAMP:20150730T130000Z
ORGANIZER;CN=Nevis Range:MAILTO:
STATUS:CONFIRMED
UID:MORESPORTSNETWORK7123
DTSTART:20261114T080000+0000
DTEND:20261114T120000+0000
SUMMARY:Mini Blazers Enduro at Nevis Range 2026
DESCRIPTION:Mini Blazers Enduro at Nevis Range 2026 - more details: https://www.moredirt.com/event/7123
X-ALT-DESC;FMTTYPE=text/html:Mini Blazers Enduro at Nevis Range 2026 - more details: https://www.moredirt.com/event/7123
LOCATION:
END:VEVENT
END:VCALENDAR