BEGIN:VCALENDAR
VERSION:2.0
PRODID:-//MoreDirt v1.0//EN
BEGIN:VEVENT
DTSTAMP:20150730T130000Z
ORGANIZER;CN=Nevis Range:MAILTO:
STATUS:CONFIRMED
UID:MORESPORTSNETWORK7121
DTSTART:20260620T080000Z
DTEND:20260620T120000Z
SUMMARY:Nevis Range Downhill Mini Series 2026 - Round 3
DESCRIPTION:Nevis Range Downhill Mini Series 2026 - Round 3 - more details: https://www.moredirt.com/event/7121
X-ALT-DESC;FMTTYPE=text/html:Nevis Range Downhill Mini Series 2026 - Round 3 - more details: https://www.moredirt.com/event/7121
LOCATION:
END:VEVENT
END:VCALENDAR