BEGIN:VCALENDAR
VERSION:2.0
PRODID:-//MoreDirt v1.0//EN
BEGIN:VEVENT
DTSTAMP:20150730T130000Z
ORGANIZER;CN=Nevis Range:MAILTO:
STATUS:CONFIRMED
UID:MORESPORTSNETWORK7119
DTSTART:20260328T080000+0000
DTEND:20260328T120000+0000
SUMMARY:Nevis Range Downhill Mini Series 2026 - Round 1
DESCRIPTION:Nevis Range Downhill Mini Series 2026 - Round 1 - more details: https://www.moredirt.com/event/7119
X-ALT-DESC;FMTTYPE=text/html:Nevis Range Downhill Mini Series 2026 - Round 1 - more details: https://www.moredirt.com/event/7119
LOCATION:
END:VEVENT
END:VCALENDAR