BEGIN:VCALENDAR
VERSION:2.0
PRODID:-//MoreDirt v1.0//EN
BEGIN:VEVENT
DTSTAMP:20150730T130000Z
ORGANIZER;CN=Hamsterley Trailblazers MTB:MAILTO:
STATUS:CONFIRMED
UID:MORESPORTSNETWORK7117
DTSTART:20260221T080000+0000
DTEND:20260221T120000+0000
SUMMARY:Mountain Bike Volunteer Trail Building - Hamsterley Forest
DESCRIPTION:Mountain Bike Volunteer Trail Building - Hamsterley Forest - more details: https://www.moredirt.com/event/7117
X-ALT-DESC;FMTTYPE=text/html:Mountain Bike Volunteer Trail Building - Hamsterley Forest - more details: https://www.moredirt.com/event/7117
LOCATION:
END:VEVENT
END:VCALENDAR