BEGIN:VCALENDAR
VERSION:2.0
PRODID:-//MoreDirt v1.0//EN
BEGIN:VEVENT
DTSTAMP:20150730T130000Z
ORGANIZER;CN=Eventrex UK Ltd:MAILTO:
STATUS:CONFIRMED
UID:MORESPORTSNETWORK7115
DTSTART:20260628T080000Z
DTEND:20260628T120000Z
SUMMARY:Gravel Rush - Winchester
DESCRIPTION:Gravel Rush - Winchester - more details: https://www.moredirt.com/event/7115
X-ALT-DESC;FMTTYPE=text/html:Gravel Rush - Winchester - more details: https://www.moredirt.com/event/7115
LOCATION:
END:VEVENT
END:VCALENDAR