BEGIN:VCALENDAR
VERSION:2.0
PRODID:-//MoreDirt v1.0//EN
BEGIN:VEVENT
DTSTAMP:20150730T130000Z
ORGANIZER;CN=Glorious Gravel:MAILTO:
STATUS:CONFIRMED
UID:MORESPORTSNETWORK7113
DTSTART:20260523T080000Z
DTEND:20260523T120000Z
SUMMARY:Welsh Valleys Trophy - British Gravel Series
DESCRIPTION:Welsh Valleys Trophy - British Gravel Series - more details: https://www.moredirt.com/event/7113
X-ALT-DESC;FMTTYPE=text/html:Welsh Valleys Trophy - British Gravel Series - more details: https://www.moredirt.com/event/7113
LOCATION:
END:VEVENT
END:VCALENDAR