BEGIN:VCALENDAR
VERSION:2.0
PRODID:-//MoreDirt v1.0//EN
BEGIN:VEVENT
DTSTAMP:20150730T130000Z
ORGANIZER;CN=Hart Hills:MAILTO:
STATUS:CONFIRMED
UID:MORESPORTSNETWORK7111
DTSTART:20260509T080000Z
DTEND:20260509T120000Z
SUMMARY:Hart Hills Gravel Race
DESCRIPTION:Hart Hills Gravel Race - more details: https://www.moredirt.com/event/7111
X-ALT-DESC;FMTTYPE=text/html:Hart Hills Gravel Race - more details: https://www.moredirt.com/event/7111
LOCATION:
END:VEVENT
END:VCALENDAR