BEGIN:VCALENDAR
VERSION:2.0
PRODID:-//MoreDirt v1.0//EN
BEGIN:VEVENT
DTSTAMP:20150730T130000Z
ORGANIZER;CN=Loch Ness Travel:MAILTO:
STATUS:CONFIRMED
UID:MORESPORTSNETWORK7110
DTSTART:20261003T080000Z
DTEND:20261003T120000Z
SUMMARY:The Affric Gravel Sportive
DESCRIPTION:The Affric Gravel Sportive - more details: https://www.moredirt.com/event/7110
X-ALT-DESC;FMTTYPE=text/html:The Affric Gravel Sportive - more details: https://www.moredirt.com/event/7110
LOCATION:
END:VEVENT
END:VCALENDAR