BEGIN:VCALENDAR
VERSION:2.0
PRODID:-//MoreDirt v1.0//EN
BEGIN:VEVENT
DTSTAMP:20150730T130000Z
ORGANIZER;CN=Mudslinger Events:MAILTO:
STATUS:CONFIRMED
UID:MORESPORTSNETWORK7109
DTSTART:20260718T080000Z
DTEND:20260718T120000Z
SUMMARY:High Cascades 100
DESCRIPTION:High Cascades 100 - more details: https://www.moredirt.com/event/7109
X-ALT-DESC;FMTTYPE=text/html:High Cascades 100 - more details: https://www.moredirt.com/event/7109
LOCATION:
END:VEVENT
END:VCALENDAR