BEGIN:VCALENDAR
VERSION:2.0
PRODID:-//MoreDirt v1.0//EN
BEGIN:VEVENT
DTSTAMP:20150730T130000Z
ORGANIZER;CN=Mudslinger Events:MAILTO:
STATUS:CONFIRMED
UID:MORESPORTSNETWORK7104
DTSTART:20260711T080000Z
DTEND:20260711T120000Z
SUMMARY:Bend Dirt Fest
DESCRIPTION:Bend Dirt Fest - more details: https://www.moredirt.com/event/7104
X-ALT-DESC;FMTTYPE=text/html:Bend Dirt Fest - more details: https://www.moredirt.com/event/7104
LOCATION:
END:VEVENT
END:VCALENDAR