BEGIN:VCALENDAR
VERSION:2.0
PRODID:-//MoreDirt v1.0//EN
BEGIN:VEVENT
DTSTAMP:20150730T130000Z
ORGANIZER;CN=British Cycling:MAILTO:
STATUS:CONFIRMED
UID:MORESPORTSNETWORK7102
DTSTART:20270123T080000+0000
DTEND:20270124T120000+0000
SUMMARY:National Cycle-Cross Series - Round 5: Peel Park
DESCRIPTION:National Cycle-Cross Series - Round 5: Peel Park - more details: https://www.moredirt.com/event/7102
X-ALT-DESC;FMTTYPE=text/html:National Cycle-Cross Series - Round 5: Peel Park - more details: https://www.moredirt.com/event/7102
LOCATION:
END:VEVENT
END:VCALENDAR