BEGIN:VCALENDAR
VERSION:2.0
PRODID:-//MoreDirt v1.0//EN
BEGIN:VEVENT
DTSTAMP:20150730T130000Z
ORGANIZER;CN=British Cycling:MAILTO:
STATUS:CONFIRMED
UID:MORESPORTSNETWORK7100
DTSTART:20261128T080000+0000
DTEND:20261129T120000+0000
SUMMARY:National Cycle-Cross Series - Round 3: Cyclo Park
DESCRIPTION:National Cycle-Cross Series - Round 3: Cyclo Park - more details: https://www.moredirt.com/event/7100
X-ALT-DESC;FMTTYPE=text/html:National Cycle-Cross Series - Round 3: Cyclo Park - more details: https://www.moredirt.com/event/7100
LOCATION:
END:VEVENT
END:VCALENDAR