BEGIN:VCALENDAR
VERSION:2.0
PRODID:-//MoreDirt v1.0//EN
BEGIN:VEVENT
DTSTAMP:20150730T130000Z
ORGANIZER;CN=British Cycling:MAILTO:
STATUS:CONFIRMED
UID:MORESPORTSNETWORK7098
DTSTART:20261017T080000Z
DTEND:20261018T120000Z
SUMMARY:National Cycle-Cross Series - Round 1: Derby
DESCRIPTION:National Cycle-Cross Series - Round 1: Derby - more details: https://www.moredirt.com/event/7098
X-ALT-DESC;FMTTYPE=text/html:National Cycle-Cross Series - Round 1: Derby - more details: https://www.moredirt.com/event/7098
LOCATION:
END:VEVENT
END:VCALENDAR