BEGIN:VCALENDAR
VERSION:2.0
PRODID:-//MoreDirt v1.0//EN
BEGIN:VEVENT
DTSTAMP:20150730T130000Z
ORGANIZER;CN=Dyfi Bike Park:MAILTO:
STATUS:CONFIRMED
UID:MORESPORTSNETWORK7097
DTSTART:20260307T080000+0000
DTEND:20260308T120000+0000
SUMMARY:Women's Weekend - Dyfi Bike Park
DESCRIPTION:Women's Weekend - Dyfi Bike Park - more details: https://www.moredirt.com/event/7097
X-ALT-DESC;FMTTYPE=text/html:Women's Weekend - Dyfi Bike Park - more details: https://www.moredirt.com/event/7097
LOCATION:
END:VEVENT
END:VCALENDAR