BEGIN:VCALENDAR
VERSION:2.0
PRODID:-//MoreDirt v1.0//EN
BEGIN:VEVENT
DTSTAMP:20150730T130000Z
ORGANIZER;CN=Elgin CC:MAILTO:
STATUS:CONFIRMED
UID:MORESPORTSNETWORK7089
DTSTART:20260301T080000+0000
DTEND:20260301T120000+0000
SUMMARY:Trailblazer Gravel TT - New Edition
DESCRIPTION:Trailblazer Gravel TT - New Edition - more details: https://www.moredirt.com/event/7089
X-ALT-DESC;FMTTYPE=text/html:Trailblazer Gravel TT - New Edition - more details: https://www.moredirt.com/event/7089
LOCATION:
END:VEVENT
END:VCALENDAR