BEGIN:VCALENDAR
VERSION:2.0
PRODID:-//MoreDirt v1.0//EN
BEGIN:VEVENT
DTSTAMP:20150730T130000Z
ORGANIZER;CN=Northern Downhill:MAILTO:
STATUS:CONFIRMED
UID:MORESPORTSNETWORK697
DTSTART:20131124T080000+0000
DTEND:20131124T120000+0000
SUMMARY:N'Duro - Alwinton & Kidland
DESCRIPTION:N'Duro - Alwinton & Kidland - more details: https://www.moredirt.com/event/697
X-ALT-DESC;FMTTYPE=text/html:N'Duro - Alwinton & Kidland - more details: https://www.moredirt.com/event/697
LOCATION:
END:VEVENT
END:VCALENDAR