BEGIN:VCALENDAR
VERSION:2.0
PRODID:-//MoreDirt v1.0//EN
BEGIN:VEVENT
DTSTAMP:20150730T130000Z
ORGANIZER;CN=Burlish Bike Park Club:MAILTO:
STATUS:CONFIRMED
UID:MORESPORTSNETWORK6943
DTSTART:20251214T080000+0000
DTEND:20251214T120000+0000
SUMMARY:Burlish Bike Park Santa Jam!
DESCRIPTION:Burlish Bike Park Santa Jam! - more details: https://www.moredirt.com/event/6943
X-ALT-DESC;FMTTYPE=text/html:Burlish Bike Park Santa Jam! - more details: https://www.moredirt.com/event/6943
LOCATION:
END:VEVENT
END:VCALENDAR