BEGIN:VCALENDAR
VERSION:2.0
PRODID:-//MoreDirt v1.0//EN
BEGIN:VEVENT
DTSTAMP:20150730T130000Z
ORGANIZER;CN=Scottish Downhill Association (SDA) :MAILTO:
STATUS:CONFIRMED
UID:MORESPORTSNETWORK6939
DTSTART:20260822T080000Z
DTEND:20260823T120000Z
SUMMARY:SDA Series 2026 - RD4 & Scottish Championships - Glencoe
DESCRIPTION:SDA Series 2026 - RD4 & Scottish Championships - Glencoe - more details: https://www.moredirt.com/event/6939
X-ALT-DESC;FMTTYPE=text/html:SDA Series 2026 - RD4 & Scottish Championships - Glencoe - more details: https://www.moredirt.com/event/6939
LOCATION:
END:VEVENT
END:VCALENDAR