BEGIN:VCALENDAR
VERSION:2.0
PRODID:-//MoreDirt v1.0//EN
BEGIN:VEVENT
DTSTAMP:20150730T130000Z
ORGANIZER;CN=Bird Cycleworks:MAILTO:
STATUS:CONFIRMED
UID:MORESPORTSNETWORK6933
DTSTART:20260104T080000+0000
DTEND:20260104T120000+0000
SUMMARY:Bird Cycleworks Owners and Friends New Year Ride
DESCRIPTION:Bird Cycleworks Owners and Friends New Year Ride - more details: https://www.moredirt.com/event/6933
X-ALT-DESC;FMTTYPE=text/html:Bird Cycleworks Owners and Friends New Year Ride - more details: https://www.moredirt.com/event/6933
LOCATION:
END:VEVENT
END:VCALENDAR