BEGIN:VCALENDAR
VERSION:2.0
PRODID:-//MoreDirt v1.0//EN
BEGIN:VEVENT
DTSTAMP:20150730T130000Z
ORGANIZER;CN=Pegasus MTB Coaching:MAILTO:
STATUS:CONFIRMED
UID:MORESPORTSNETWORK6931
DTSTART:20251221T080000+0000
DTEND:20251221T120000+0000
SUMMARY:Christmas Jumping! - Pegasus MTB Coaching
DESCRIPTION:Christmas Jumping! - Pegasus MTB Coaching - more details: https://www.moredirt.com/event/6931
X-ALT-DESC;FMTTYPE=text/html:Christmas Jumping! - Pegasus MTB Coaching - more details: https://www.moredirt.com/event/6931
LOCATION:
END:VEVENT
END:VCALENDAR