BEGIN:VCALENDAR
VERSION:2.0
PRODID:-//MoreDirt v1.0//EN
BEGIN:VEVENT
DTSTAMP:20150730T130000Z
ORGANIZER;CN=Slaughter Trail Guides:MAILTO:
STATUS:CONFIRMED
UID:MORESPORTSNETWORK6930
DTSTART:20260328T080000+0000
DTEND:20260328T120000+0000
SUMMARY:Wildcat MTB Marathon 2026
DESCRIPTION:Wildcat MTB Marathon 2026 - more details: https://www.moredirt.com/event/6930
X-ALT-DESC;FMTTYPE=text/html:Wildcat MTB Marathon 2026 - more details: https://www.moredirt.com/event/6930
LOCATION:
END:VEVENT
END:VCALENDAR