BEGIN:VCALENDAR
VERSION:2.0
PRODID:-//MoreDirt v1.0//EN
BEGIN:VEVENT
DTSTAMP:20150730T130000Z
ORGANIZER;CN=Southern Enduro Tour:MAILTO:
STATUS:CONFIRMED
UID:MORESPORTSNETWORK6929
DTSTART:20260425T080000Z
DTEND:20260426T120000Z
SUMMARY:Southern Enduro Tour RD5 2026
DESCRIPTION:Southern Enduro Tour RD5 2026 - more details: https://www.moredirt.com/event/6929
X-ALT-DESC;FMTTYPE=text/html:Southern Enduro Tour RD5 2026 - more details: https://www.moredirt.com/event/6929
LOCATION:
END:VEVENT
END:VCALENDAR