BEGIN:VCALENDAR
VERSION:2.0
PRODID:-//MoreDirt v1.0//EN
BEGIN:VEVENT
DTSTAMP:20150730T130000Z
ORGANIZER;CN=Southern Enduro Tour:MAILTO:
STATUS:CONFIRMED
UID:MORESPORTSNETWORK6927
DTSTART:20260301T080000+0000
DTEND:20260301T120000+0000
SUMMARY:Southern Enduro Tour RD2 2026
DESCRIPTION:Southern Enduro Tour RD2 2026 - more details: https://www.moredirt.com/event/6927
X-ALT-DESC;FMTTYPE=text/html:Southern Enduro Tour RD2 2026 - more details: https://www.moredirt.com/event/6927
LOCATION:
END:VEVENT
END:VCALENDAR