BEGIN:VCALENDAR
VERSION:2.0
PRODID:-//MoreDirt v1.0//EN
BEGIN:VEVENT
DTSTAMP:20150730T130000Z
ORGANIZER;CN=Hidden Tracks Cycling:MAILTO:
STATUS:CONFIRMED
UID:MORESPORTSNETWORK6926
DTSTART:20260517T080000Z
DTEND:20260517T120000Z
SUMMARY:Southern Grit
DESCRIPTION:Southern Grit - more details: https://www.moredirt.com/event/6926
X-ALT-DESC;FMTTYPE=text/html:Southern Grit - more details: https://www.moredirt.com/event/6926
LOCATION:
END:VEVENT
END:VCALENDAR