BEGIN:VCALENDAR
VERSION:2.0
PRODID:-//MoreDirt v1.0//EN
BEGIN:VEVENT
DTSTAMP:20150730T130000Z
ORGANIZER;CN=Hidden Tracks Cycling:MAILTO:
STATUS:CONFIRMED
UID:MORESPORTSNETWORK6925
DTSTART:20260828T080000Z
DTEND:20260828T120000Z
SUMMARY:The Wrecker
DESCRIPTION:The Wrecker - more details: https://www.moredirt.com/event/6925
X-ALT-DESC;FMTTYPE=text/html:The Wrecker - more details: https://www.moredirt.com/event/6925
LOCATION:
END:VEVENT
END:VCALENDAR