BEGIN:VCALENDAR
VERSION:2.0
PRODID:-//MoreDirt v1.0//EN
BEGIN:VEVENT
DTSTAMP:20150730T130000Z
ORGANIZER;CN=Cold Brew Events:MAILTO:
STATUS:CONFIRMED
UID:MORESPORTSNETWORK6922
DTSTART:20261024T080000Z
DTEND:20261025T120000+0000
SUMMARY:The Chiller 24 2026
DESCRIPTION:The Chiller 24 2026 - more details: https://www.moredirt.com/event/6922
X-ALT-DESC;FMTTYPE=text/html:The Chiller 24 2026 - more details: https://www.moredirt.com/event/6922
LOCATION:
END:VEVENT
END:VCALENDAR