BEGIN:VCALENDAR
VERSION:2.0
PRODID:-//MoreDirt v1.0//EN
BEGIN:VEVENT
DTSTAMP:20150730T130000Z
ORGANIZER;CN=:MAILTO:
STATUS:CONFIRMED
UID:MORESPORTSNETWORK6920
DTSTART:20260627T080000Z
DTEND:20260627T120000Z
SUMMARY:Truckee Gravel 2026
DESCRIPTION:Truckee Gravel 2026 - more details: https://www.moredirt.com/event/6920
X-ALT-DESC;FMTTYPE=text/html:Truckee Gravel 2026 - more details: https://www.moredirt.com/event/6920
LOCATION:
END:VEVENT
END:VCALENDAR