BEGIN:VCALENDAR
VERSION:2.0
PRODID:-//MoreDirt v1.0//EN
BEGIN:VEVENT
DTSTAMP:20150730T130000Z
ORGANIZER;CN=Ready Set Go Adventures:MAILTO:
STATUS:CONFIRMED
UID:MORESPORTSNETWORK6919
DTSTART:20260628T080000Z
DTEND:20260628T120000Z
SUMMARY:Empire Gravel
DESCRIPTION:Empire Gravel - more details: https://www.moredirt.com/event/6919
X-ALT-DESC;FMTTYPE=text/html:Empire Gravel - more details: https://www.moredirt.com/event/6919
LOCATION:
END:VEVENT
END:VCALENDAR