BEGIN:VCALENDAR
VERSION:2.0
PRODID:-//MoreDirt v1.0//EN
BEGIN:VEVENT
DTSTAMP:20150730T130000Z
ORGANIZER;CN=The Pikes Peak APEX:MAILTO:
STATUS:CONFIRMED
UID:MORESPORTSNETWORK6918
DTSTART:20260613T080000Z
DTEND:20260614T120000Z
SUMMARY:The Pikes Peak APEX
DESCRIPTION:The Pikes Peak APEX - more details: https://www.moredirt.com/event/6918
X-ALT-DESC;FMTTYPE=text/html:The Pikes Peak APEX - more details: https://www.moredirt.com/event/6918
LOCATION:
END:VEVENT
END:VCALENDAR