BEGIN:VCALENDAR
VERSION:2.0
PRODID:-//MoreDirt v1.0//EN
BEGIN:VEVENT
DTSTAMP:20150730T130000Z
ORGANIZER;CN=Lets Ride:MAILTO:
STATUS:CONFIRMED
UID:MORESPORTSNETWORK6917
DTSTART:20260123T080000+0000
DTEND:20260123T120000+0000
SUMMARY:Beginner's Mountain Bike Rides - Queen Elizabeth Country Park
DESCRIPTION:Beginner's Mountain Bike Rides - Queen Elizabeth Country Park - more details: https://www.moredirt.com/event/6917
X-ALT-DESC;FMTTYPE=text/html:Beginner's Mountain Bike Rides - Queen Elizabeth Country Park - more details: https://www.moredirt.com/event/6917
LOCATION:
END:VEVENT
END:VCALENDAR