BEGIN:VCALENDAR
VERSION:2.0
PRODID:-//MoreDirt v1.0//EN
BEGIN:VEVENT
DTSTAMP:20150730T130000Z
ORGANIZER;CN=MTB East - Travers Bikes:MAILTO:
STATUS:CONFIRMED
UID:MORESPORTSNETWORK6915
DTSTART:20260524T080000Z
DTEND:20260524T120000Z
SUMMARY:MTB East Round 5 - Potash
DESCRIPTION:MTB East Round 5 - Potash - more details: https://www.moredirt.com/event/6915
X-ALT-DESC;FMTTYPE=text/html:MTB East Round 5 - Potash - more details: https://www.moredirt.com/event/6915
LOCATION:
END:VEVENT
END:VCALENDAR