BEGIN:VCALENDAR
VERSION:2.0
PRODID:-//MoreDirt v1.0//EN
BEGIN:VEVENT
DTSTAMP:20150730T130000Z
ORGANIZER;CN=Pearce Cycles Events:MAILTO:
STATUS:CONFIRMED
UID:MORESPORTSNETWORK6914
DTSTART:20251228T080000+0000
DTEND:20251228T120000+0000
SUMMARY:Xmas Charity Uplift Day - Bringewood
DESCRIPTION:Xmas Charity Uplift Day - Bringewood - more details: https://www.moredirt.com/event/6914
X-ALT-DESC;FMTTYPE=text/html:Xmas Charity Uplift Day - Bringewood - more details: https://www.moredirt.com/event/6914
LOCATION:
END:VEVENT
END:VCALENDAR