BEGIN:VCALENDAR
VERSION:2.0
PRODID:-//MoreDirt v1.0//EN
BEGIN:VEVENT
DTSTAMP:20150730T130000Z
ORGANIZER;CN=Firecrest Mountain Biking:MAILTO:
STATUS:CONFIRMED
UID:MORESPORTSNETWORK6913
DTSTART:20251213T080000+0000
DTEND:20251213T120000+0000
SUMMARY:Firecrest MTB - DeVo Gravity Camp - DH and Enduro Race Training
DESCRIPTION:Firecrest MTB - DeVo Gravity Camp - DH and Enduro Race Training - more details: https://www.moredirt.com/event/6913
X-ALT-DESC;FMTTYPE=text/html:Firecrest MTB - DeVo Gravity Camp - DH and Enduro Race Training - more details: https://www.moredirt.com/event/6913
LOCATION:
END:VEVENT
END:VCALENDAR