BEGIN:VCALENDAR
VERSION:2.0
PRODID:-//MoreDirt v1.0//EN
BEGIN:VEVENT
DTSTAMP:20150730T130000Z
ORGANIZER;CN=Biking.ie:MAILTO:
STATUS:CONFIRMED
UID:MORESPORTSNETWORK6912
DTSTART:20260508T080000Z
DTEND:20260510T120000Z
SUMMARY:Wicklow MTB Festival 2026
DESCRIPTION:Wicklow MTB Festival 2026 - more details: https://www.moredirt.com/event/6912
X-ALT-DESC;FMTTYPE=text/html:Wicklow MTB Festival 2026 - more details: https://www.moredirt.com/event/6912
LOCATION:
END:VEVENT
END:VCALENDAR