BEGIN:VCALENDAR
VERSION:2.0
PRODID:-//MoreDirt v1.0//EN
BEGIN:VEVENT
DTSTAMP:20150730T130000Z
ORGANIZER;CN=Ride Sheffield:MAILTO:
STATUS:CONFIRMED
UID:MORESPORTSNETWORK6911
DTSTART:20251206T080000+0000
DTEND:20251206T120000+0000
SUMMARY:Ride Sheffield Christmas Lady Canning's Dig Day
DESCRIPTION:Ride Sheffield Christmas Lady Canning's Dig Day - more details: https://www.moredirt.com/event/6911
X-ALT-DESC;FMTTYPE=text/html:Ride Sheffield Christmas Lady Canning's Dig Day - more details: https://www.moredirt.com/event/6911
LOCATION:
END:VEVENT
END:VCALENDAR