BEGIN:VCALENDAR
VERSION:2.0
PRODID:-//MoreDirt v1.0//EN
BEGIN:VEVENT
DTSTAMP:20150730T130000Z
ORGANIZER;CN=Firecrest Mountain Biking:MAILTO:
STATUS:CONFIRMED
UID:MORESPORTSNETWORK6910
DTSTART:20251213T080000+0000
DTEND:20251213T120000+0000
SUMMARY:Firecrest MTB Adult RDP - Adult Mountain Bike Skills Training
DESCRIPTION:Firecrest MTB Adult RDP - Adult Mountain Bike Skills Training - more details: https://www.moredirt.com/event/6910
X-ALT-DESC;FMTTYPE=text/html:Firecrest MTB Adult RDP - Adult Mountain Bike Skills Training - more details: https://www.moredirt.com/event/6910
LOCATION:
END:VEVENT
END:VCALENDAR